BEGIN:VCALENDAR
VERSION:2.0
PRODID:-//My Community Diary//iCal Event//EN
CALSCALE:GREGORIAN
METHOD:PUBLISH
BEGIN:VEVENT
UID:fad64a95-65d3-4cc4-8ff4-11a2e54c6bae
DTSTAMP:20260424T160642Z
DTSTART:20240302T060000Z
DTEND:20240302T150000Z
SUMMARY:SA Carp Frenzy
DESCRIPTION:South Australia's Carp Frenzy on Lake Bonney Barmera in 2023.\n\nSouth Australia's Biggest Carp Fishing Competition held in Barmera Lake Bonney.\nThrow your line in and try your luck for one of many prizes on that day.\nNo need to be a professional or even catch a fish to win a prize!\n\nFor more information\, please contact the organisers via Facebook\, SA Carp Frenzy.\n\nEntry Cost\nAdult $20  - Adults-$20.00 each\nFamily $50  - Family of 4 - $50.00\nChild $10  - Under 16 - $10
LOCATION:\, Queen Elizabeth Drive\, Barmera\, SA 5345\, SA\, 5345
END:VEVENT
END:VCALENDAR
